BEGIN:VCALENDAR
VERSION:2.0
PRODID:-//Department of Insurance - ECPv6.15.20//NONSGML v1.0//EN
CALSCALE:GREGORIAN
METHOD:PUBLISH
X-WR-CALNAME:Department of Insurance
X-ORIGINAL-URL:https://doi.idaho.gov
X-WR-CALDESC:Events for Department of Insurance
REFRESH-INTERVAL;VALUE=DURATION:PT1H
X-Robots-Tag:noindex
X-PUBLISHED-TTL:PT1H
BEGIN:VTIMEZONE
TZID:America/Boise
BEGIN:DAYLIGHT
TZOFFSETFROM:-0700
TZOFFSETTO:-0600
TZNAME:MDT
DTSTART:20210314T090000
END:DAYLIGHT
BEGIN:STANDARD
TZOFFSETFROM:-0600
TZOFFSETTO:-0700
TZNAME:MST
DTSTART:20211107T080000
END:STANDARD
BEGIN:DAYLIGHT
TZOFFSETFROM:-0700
TZOFFSETTO:-0600
TZNAME:MDT
DTSTART:20220313T090000
END:DAYLIGHT
BEGIN:STANDARD
TZOFFSETFROM:-0600
TZOFFSETTO:-0700
TZNAME:MST
DTSTART:20221106T080000
END:STANDARD
BEGIN:DAYLIGHT
TZOFFSETFROM:-0700
TZOFFSETTO:-0600
TZNAME:MDT
DTSTART:20230312T090000
END:DAYLIGHT
BEGIN:STANDARD
TZOFFSETFROM:-0600
TZOFFSETTO:-0700
TZNAME:MST
DTSTART:20231105T080000
END:STANDARD
END:VTIMEZONE
BEGIN:VEVENT
DTSTART;TZID=America/Boise:20220726T000000
DTEND;TZID=America/Boise:20220726T000000
DTSTAMP:20260422T001210
CREATED:20250425T155033Z
LAST-MODIFIED:20250425T155033Z
UID:48715-1658793600-1658793600@doi.idaho.gov
SUMMARY:Public meeting to receive comments on proposed rules
DESCRIPTION:AUTHORITY: In compliance with Section 67-5221(1)\, Idaho Code\, notice is hereby given that this agency has initiated proposed rulemaking procedures. The action is authorized pursuant to Sections 41-211 and 41-2502(3)\, Idaho Code. \nPUBLIC HEARING: Tuesday\, July 26\, 2022\, 2:00 p.m. to 3:30 p.m. (MT) \nIn-person participation is available at:\nDepartment of Insurance\n700 W State St\, 3rd Floor Conference Room A\nBoise\, Idaho 83702 \nPhone or virtual participation via Webex is available at: Join WebEx Meeting\nMeeting Number (Access Code): 2451 825 4219\nMeeting Password: fN4m3AqFSr3\nJoin by phone at: 1-720-650-7664 (USA Toll Free) \nThe meeting site(s) will be accessible to persons with disabilities\, if needed. Requests for accommodation must be made not later than five (5) days prior to the meeting to the agency address below. \nThese rules are being presented for authorization as part of the DOI’s plan to review each rule every 5 years. Other than changes noted below\, there are no specific rulemaking changes planned by the DOI at this time except for evaluation and amendment consistent with the Governor’s Executive Order 2020-01: Zero-Based Regulation. It is anticipated that rulemaking stakeholders will propose and advocate for rulemaking changes as part of the negotiated rulemaking process. The DOI intends to carefully consider all changes presented by the public and may propose certain changes so long as they are consistent with the rules’ statutory authority and the Governor’s Executive Order. \nThe following rule chapters are germane to this rulemaking: \n• 18.02.02 – Automobile Insurance Policies;\n• 18.02.03 – Certificate of Liability Insurance for Motor Vehicles;\n• 18.07.01 – Rules Pertaining to Acquisitions of Control\, Insurance Holding Company Systems and Mutual Insurance Holding Companies;\n• 18.07.02 – Reserve Liabilities and Minimum Valuations for Annuities and Pure Endowment Contracts;\n• 18.07.03 – Valuation of Life Insurance Policies Including the Use of Select Mortality Factors;\n• 18.07.08 – Property and Casualty Actuarial Opinion Rule;\n• 18.07.09 – Life and Health Actuarial Opinion and Memorandum Rule; and\n• 18.08.02 – Fire Protection Sprinkler Contractors. \nProposed rules and notices are published in the July 6\, 2022 Idaho Administrative Bulletin\, starting on page 124.
URL:https://doi.idaho.gov/event/public-meeting-to-receive-comments-on-proposed-rules/
LOCATION:ID
END:VEVENT
END:VCALENDAR