BEGIN:VCALENDAR
VERSION:2.0
PRODID:-//Department of Insurance - ECPv6.15.20//NONSGML v1.0//EN
CALSCALE:GREGORIAN
METHOD:PUBLISH
X-WR-CALNAME:Department of Insurance
X-ORIGINAL-URL:https://doi.idaho.gov
X-WR-CALDESC:Events for Department of Insurance
REFRESH-INTERVAL;VALUE=DURATION:PT1H
X-Robots-Tag:noindex
X-PUBLISHED-TTL:PT1H
BEGIN:VTIMEZONE
TZID:America/Boise
BEGIN:DAYLIGHT
TZOFFSETFROM:-0700
TZOFFSETTO:-0600
TZNAME:MDT
DTSTART:20240310T090000
END:DAYLIGHT
BEGIN:STANDARD
TZOFFSETFROM:-0600
TZOFFSETTO:-0700
TZNAME:MST
DTSTART:20241103T080000
END:STANDARD
BEGIN:DAYLIGHT
TZOFFSETFROM:-0700
TZOFFSETTO:-0600
TZNAME:MDT
DTSTART:20250309T090000
END:DAYLIGHT
BEGIN:STANDARD
TZOFFSETFROM:-0600
TZOFFSETTO:-0700
TZNAME:MST
DTSTART:20251102T080000
END:STANDARD
BEGIN:DAYLIGHT
TZOFFSETFROM:-0700
TZOFFSETTO:-0600
TZNAME:MDT
DTSTART:20260308T090000
END:DAYLIGHT
BEGIN:STANDARD
TZOFFSETFROM:-0600
TZOFFSETTO:-0700
TZNAME:MST
DTSTART:20261101T080000
END:STANDARD
END:VTIMEZONE
BEGIN:VEVENT
DTSTART;TZID=America/Boise:20250501T120000
DTEND;TZID=America/Boise:20250501T150000
DTSTAMP:20260424T001022
CREATED:20250425T155420Z
LAST-MODIFIED:20250430T180152Z
UID:48784-1746100800-1746111600@doi.idaho.gov
SUMMARY:Idaho Individual High-Risk Reinsurance Pool Board Meeting
DESCRIPTION:Agenda \n\n\n\nMicrosoft Teams Need help? \n\n\n\nJoin the meeting now \n\n\n\nMeeting ID: 232 554 821 969 \n\n\n\nPasscode: 2Jh35JF6 \n\n\n\nDial in by phone \n\n\n\n+1 208-985-2810\,\,648205736# United States\, Boise \n\n\n\nFind a local number \n\n\n\nPhone conference ID: 648 205 736# \n\n\n\n 
URL:https://doi.idaho.gov/event/idaho-individual-high-risk-reinsurance-pool-board-meeting-2/
LOCATION:ID
END:VEVENT
END:VCALENDAR