BEGIN:VCALENDAR
VERSION:2.0
PRODID:-//Department of Insurance - ECPv6.15.20//NONSGML v1.0//EN
CALSCALE:GREGORIAN
METHOD:PUBLISH
X-WR-CALNAME:Department of Insurance
X-ORIGINAL-URL:https://doi.idaho.gov
X-WR-CALDESC:Events for Department of Insurance
REFRESH-INTERVAL;VALUE=DURATION:PT1H
X-Robots-Tag:noindex
X-PUBLISHED-TTL:PT1H
BEGIN:VTIMEZONE
TZID:America/Boise
BEGIN:DAYLIGHT
TZOFFSETFROM:-0700
TZOFFSETTO:-0600
TZNAME:MDT
DTSTART:20240310T090000
END:DAYLIGHT
BEGIN:STANDARD
TZOFFSETFROM:-0600
TZOFFSETTO:-0700
TZNAME:MST
DTSTART:20241103T080000
END:STANDARD
BEGIN:DAYLIGHT
TZOFFSETFROM:-0700
TZOFFSETTO:-0600
TZNAME:MDT
DTSTART:20250309T090000
END:DAYLIGHT
BEGIN:STANDARD
TZOFFSETFROM:-0600
TZOFFSETTO:-0700
TZNAME:MST
DTSTART:20251102T080000
END:STANDARD
BEGIN:DAYLIGHT
TZOFFSETFROM:-0700
TZOFFSETTO:-0600
TZNAME:MDT
DTSTART:20260308T090000
END:DAYLIGHT
BEGIN:STANDARD
TZOFFSETFROM:-0600
TZOFFSETTO:-0700
TZNAME:MST
DTSTART:20261101T080000
END:STANDARD
END:VTIMEZONE
BEGIN:VEVENT
DTSTART;TZID=America/Boise:20250508T103000
DTEND;TZID=America/Boise:20250508T120100
DTSTAMP:20260419T202610
CREATED:20250425T164228Z
LAST-MODIFIED:20250508T205505Z
UID:48824-1746700200-1746705660@doi.idaho.gov
SUMMARY:Medicare Workshop
DESCRIPTION:110 S. Jefferson Moscow\, ID 83843\n(Workshop / Update) No Registration Required
URL:https://doi.idaho.gov/event/medicare-workshop-8/
LOCATION:110 S. Jefferson Moscow\, ID 83843\, 110 S. Jefferson Moscow\, ID 83843\, Moscow
CATEGORIES:Medicare Workshop,SHIBA
END:VEVENT
END:VCALENDAR