BEGIN:VCALENDAR
VERSION:2.0
PRODID:-//Department of Insurance - ECPv6.15.20//NONSGML v1.0//EN
CALSCALE:GREGORIAN
METHOD:PUBLISH
X-WR-CALNAME:Department of Insurance
X-ORIGINAL-URL:https://doi.idaho.gov
X-WR-CALDESC:Events for Department of Insurance
REFRESH-INTERVAL;VALUE=DURATION:PT1H
X-Robots-Tag:noindex
X-PUBLISHED-TTL:PT1H
BEGIN:VTIMEZONE
TZID:America/Los_Angeles
BEGIN:DAYLIGHT
TZOFFSETFROM:-0800
TZOFFSETTO:-0700
TZNAME:PDT
DTSTART:20240310T100000
END:DAYLIGHT
BEGIN:STANDARD
TZOFFSETFROM:-0700
TZOFFSETTO:-0800
TZNAME:PST
DTSTART:20241103T090000
END:STANDARD
BEGIN:DAYLIGHT
TZOFFSETFROM:-0800
TZOFFSETTO:-0700
TZNAME:PDT
DTSTART:20250309T100000
END:DAYLIGHT
BEGIN:STANDARD
TZOFFSETFROM:-0700
TZOFFSETTO:-0800
TZNAME:PST
DTSTART:20251102T090000
END:STANDARD
BEGIN:DAYLIGHT
TZOFFSETFROM:-0800
TZOFFSETTO:-0700
TZNAME:PDT
DTSTART:20260308T100000
END:DAYLIGHT
BEGIN:STANDARD
TZOFFSETFROM:-0700
TZOFFSETTO:-0800
TZNAME:PST
DTSTART:20261101T090000
END:STANDARD
END:VTIMEZONE
BEGIN:VTIMEZONE
TZID:America/Boise
BEGIN:DAYLIGHT
TZOFFSETFROM:-0700
TZOFFSETTO:-0600
TZNAME:MDT
DTSTART:20240310T090000
END:DAYLIGHT
BEGIN:STANDARD
TZOFFSETFROM:-0600
TZOFFSETTO:-0700
TZNAME:MST
DTSTART:20241103T080000
END:STANDARD
BEGIN:DAYLIGHT
TZOFFSETFROM:-0700
TZOFFSETTO:-0600
TZNAME:MDT
DTSTART:20250309T090000
END:DAYLIGHT
BEGIN:STANDARD
TZOFFSETFROM:-0600
TZOFFSETTO:-0700
TZNAME:MST
DTSTART:20251102T080000
END:STANDARD
BEGIN:DAYLIGHT
TZOFFSETFROM:-0700
TZOFFSETTO:-0600
TZNAME:MDT
DTSTART:20260308T090000
END:DAYLIGHT
BEGIN:STANDARD
TZOFFSETFROM:-0600
TZOFFSETTO:-0700
TZNAME:MST
DTSTART:20261101T080000
END:STANDARD
END:VTIMEZONE
BEGIN:VEVENT
DTSTART;TZID=America/Los_Angeles:20251020T090000
DTEND;TZID=America/Los_Angeles:20251020T150000
DTSTAMP:20260423T100020
CREATED:20250906T200104Z
LAST-MODIFIED:20250906T202404Z
UID:50038-1760950800-1760972400@doi.idaho.gov
SUMMARY:CDA OFFICE ENROLLMENT EVENT
DESCRIPTION:COEUR D ALENE \n2005 IRONWOOD DR #143- DISABLED PARKING LOWER LOT \nREGISTRATION REQUIRED
URL:https://doi.idaho.gov/event/cda-office-enrollment-event/2025-10-20/
LOCATION:CDA SHIBA Office\, 2005 Ironwood Pkwy #143\, 83814\, United States
CATEGORIES:SHIBA
END:VEVENT
BEGIN:VEVENT
DTSTART;TZID=America/Boise:20251020T140000
DTEND;TZID=America/Boise:20251020T150000
DTSTAMP:20260423T100020
CREATED:20251006T211136Z
LAST-MODIFIED:20251014T194238Z
UID:50210-1760968800-1760972400@doi.idaho.gov
SUMMARY:Idaho Individual High-Risk Reinsurance Pool Board Meeting
DESCRIPTION:Agenda  \nMicrosoft Teams Need help? \nJoin the meeting now \nMeeting ID: 248 959 602 275 0 \nPasscode: H9Ab74Fx \nDial in by phone \n+1 208-985-2810\,\,194707924# United States\, Boise
URL:https://doi.idaho.gov/event/idaho-individual-high-risk-reinsurance-pool-board-meeting-5/
LOCATION:700 W. State St. Boise ID 83720 3rd Floor\, 700 W. State St.\, Boise\, ID\, 83720\, United States
END:VEVENT
END:VCALENDAR