BEGIN:VCALENDAR
VERSION:2.0
PRODID:-//Department of Insurance - ECPv6.15.20//NONSGML v1.0//EN
CALSCALE:GREGORIAN
METHOD:PUBLISH
X-WR-CALNAME:Department of Insurance
X-ORIGINAL-URL:https://doi.idaho.gov
X-WR-CALDESC:Events for Department of Insurance
REFRESH-INTERVAL;VALUE=DURATION:PT1H
X-Robots-Tag:noindex
X-PUBLISHED-TTL:PT1H
BEGIN:VTIMEZONE
TZID:America/Los_Angeles
BEGIN:DAYLIGHT
TZOFFSETFROM:-0800
TZOFFSETTO:-0700
TZNAME:PDT
DTSTART:20240310T100000
END:DAYLIGHT
BEGIN:STANDARD
TZOFFSETFROM:-0700
TZOFFSETTO:-0800
TZNAME:PST
DTSTART:20241103T090000
END:STANDARD
BEGIN:DAYLIGHT
TZOFFSETFROM:-0800
TZOFFSETTO:-0700
TZNAME:PDT
DTSTART:20250309T100000
END:DAYLIGHT
BEGIN:STANDARD
TZOFFSETFROM:-0700
TZOFFSETTO:-0800
TZNAME:PST
DTSTART:20251102T090000
END:STANDARD
BEGIN:DAYLIGHT
TZOFFSETFROM:-0800
TZOFFSETTO:-0700
TZNAME:PDT
DTSTART:20260308T100000
END:DAYLIGHT
BEGIN:STANDARD
TZOFFSETFROM:-0700
TZOFFSETTO:-0800
TZNAME:PST
DTSTART:20261101T090000
END:STANDARD
END:VTIMEZONE
BEGIN:VEVENT
DTSTART;TZID=America/Los_Angeles:20251023T103000
DTEND;TZID=America/Los_Angeles:20251023T120000
DTSTAMP:20260423T170538
CREATED:20250425T165120Z
LAST-MODIFIED:20250715T233646Z
UID:48838-1761215400-1761220800@doi.idaho.gov
SUMMARY:Medicare Update
DESCRIPTION:Moscow\n110 S. Jefferson Moscow\, ID 83843\nNo Registration Required
URL:https://doi.idaho.gov/event/medicare-update-3/
LOCATION:110 S. Jefferson Moscow\, ID 83843\, 110 S. Jefferson Moscow\, ID 83843\, Moscow
CATEGORIES:Medicare Update,SHIBA
END:VEVENT
BEGIN:VEVENT
DTSTART;TZID=America/Los_Angeles:20251023T140000
DTEND;TZID=America/Los_Angeles:20251023T150000
DTSTAMP:20260423T170538
CREATED:20250425T165216Z
LAST-MODIFIED:20250715T233855Z
UID:48840-1761228000-1761231600@doi.idaho.gov
SUMMARY:Medicare Update
DESCRIPTION:Lewiston Library\n411 D Street- 2nd floor\n(Workshop / Update) No Registration Required
URL:https://doi.idaho.gov/event/medicare-update-4/
LOCATION:Lewiston Library\, 411 D Street\, Lewiston\, ID\, 83501
CATEGORIES:Medicare Update,SHIBA
END:VEVENT
BEGIN:VEVENT
DTSTART;TZID=America/Los_Angeles:20251023T180000
DTEND;TZID=America/Los_Angeles:20251023T200000
DTSTAMP:20260423T170538
CREATED:20250425T165307Z
LAST-MODIFIED:20250715T234234Z
UID:48842-1761242400-1761249600@doi.idaho.gov
SUMMARY:Medicare Workshop
DESCRIPTION:Moscow\nLatah County Fairgrounds ** *Hybrid*** see below\nContact Karen Richtel (208) 883-2241 or krichel@uidaho.edu \nOr SHIBA at 1 – 800 – 247 – 4422 to register
URL:https://doi.idaho.gov/event/medicare-workshop-13/
LOCATION:Latah County Fairgrounds\, 1021 Harold Street\, Moscow\, ID\, 83843\, United States
CATEGORIES:Medicare Workshop,SHIBA
END:VEVENT
END:VCALENDAR