BEGIN:VCALENDAR
VERSION:2.0
PRODID:-//Department of Insurance - ECPv6.15.20//NONSGML v1.0//EN
CALSCALE:GREGORIAN
METHOD:PUBLISH
X-WR-CALNAME:Department of Insurance
X-ORIGINAL-URL:https://doi.idaho.gov
X-WR-CALDESC:Events for Department of Insurance
REFRESH-INTERVAL;VALUE=DURATION:PT1H
X-Robots-Tag:noindex
X-PUBLISHED-TTL:PT1H
BEGIN:VTIMEZONE
TZID:America/Boise
BEGIN:DAYLIGHT
TZOFFSETFROM:-0700
TZOFFSETTO:-0600
TZNAME:MDT
DTSTART:20240310T090000
END:DAYLIGHT
BEGIN:STANDARD
TZOFFSETFROM:-0600
TZOFFSETTO:-0700
TZNAME:MST
DTSTART:20241103T080000
END:STANDARD
BEGIN:DAYLIGHT
TZOFFSETFROM:-0700
TZOFFSETTO:-0600
TZNAME:MDT
DTSTART:20250309T090000
END:DAYLIGHT
BEGIN:STANDARD
TZOFFSETFROM:-0600
TZOFFSETTO:-0700
TZNAME:MST
DTSTART:20251102T080000
END:STANDARD
BEGIN:DAYLIGHT
TZOFFSETFROM:-0700
TZOFFSETTO:-0600
TZNAME:MDT
DTSTART:20260308T090000
END:DAYLIGHT
BEGIN:STANDARD
TZOFFSETFROM:-0600
TZOFFSETTO:-0700
TZNAME:MST
DTSTART:20261101T080000
END:STANDARD
END:VTIMEZONE
BEGIN:VEVENT
DTSTART;TZID=America/Boise:20251205T100000
DTEND;TZID=America/Boise:20251205T120000
DTSTAMP:20260424T044727
CREATED:20251114T234435Z
LAST-MODIFIED:20251117T171625Z
UID:50509-1764928800-1764936000@doi.idaho.gov
SUMMARY:Notice of Public Hearing - Idaho Section 1332 Waiver Application Extension of the Reinsurance Program and Covered Choice Amendment
DESCRIPTION:Notice of Public Hearing \n  \nThe Idaho Department of Insurance will host a public hearing on the Idaho Section 1332 Waiver Application \nExtension of the Reinsurance Program and Covered Choice Amendment. \nThis will be an opportunity for the public to ask questions and provide comment \non Idaho’s 1332 waiver and amended application \n  \nMicrosoft Teams Need help? \nJoin the meeting now \nMeeting ID: 241 718 692 991 5 \nPasscode: Pw6JJ763 \n  \nDial in by phone \n+1 208-985-2810\,\,979524698# United States\, Boise \nFind a local number \nPhone conference ID: 979 524 698#
URL:https://doi.idaho.gov/event/notice-of-public-hearing-idaho-section-1332-waiver-application-extension-of-the-reinsurance-program-and-covered-choice-amendment-2/
LOCATION:Idaho Department of Health and Welfare – Coeur d’Alene\, 1120 W. Ironwood Dr. Conference Room 1120\, Coeur d'Alene\, ID\, 83814\, United States
END:VEVENT
END:VCALENDAR