BEGIN:VCALENDAR
VERSION:2.0
PRODID:-//Department of Insurance - ECPv6.15.20//NONSGML v1.0//EN
CALSCALE:GREGORIAN
METHOD:PUBLISH
X-WR-CALNAME:Department of Insurance
X-ORIGINAL-URL:https://doi.idaho.gov
X-WR-CALDESC:Events for Department of Insurance
REFRESH-INTERVAL;VALUE=DURATION:PT1H
X-Robots-Tag:noindex
X-PUBLISHED-TTL:PT1H
BEGIN:VTIMEZONE
TZID:America/Los_Angeles
BEGIN:DAYLIGHT
TZOFFSETFROM:-0800
TZOFFSETTO:-0700
TZNAME:PDT
DTSTART:20250309T100000
END:DAYLIGHT
BEGIN:STANDARD
TZOFFSETFROM:-0700
TZOFFSETTO:-0800
TZNAME:PST
DTSTART:20251102T090000
END:STANDARD
BEGIN:DAYLIGHT
TZOFFSETFROM:-0800
TZOFFSETTO:-0700
TZNAME:PDT
DTSTART:20260308T100000
END:DAYLIGHT
BEGIN:STANDARD
TZOFFSETFROM:-0700
TZOFFSETTO:-0800
TZNAME:PST
DTSTART:20261101T090000
END:STANDARD
BEGIN:DAYLIGHT
TZOFFSETFROM:-0800
TZOFFSETTO:-0700
TZNAME:PDT
DTSTART:20270314T100000
END:DAYLIGHT
BEGIN:STANDARD
TZOFFSETFROM:-0700
TZOFFSETTO:-0800
TZNAME:PST
DTSTART:20271107T090000
END:STANDARD
END:VTIMEZONE
BEGIN:VTIMEZONE
TZID:America/Boise
BEGIN:DAYLIGHT
TZOFFSETFROM:-0700
TZOFFSETTO:-0600
TZNAME:MDT
DTSTART:20250309T090000
END:DAYLIGHT
BEGIN:STANDARD
TZOFFSETFROM:-0600
TZOFFSETTO:-0700
TZNAME:MST
DTSTART:20251102T080000
END:STANDARD
BEGIN:DAYLIGHT
TZOFFSETFROM:-0700
TZOFFSETTO:-0600
TZNAME:MDT
DTSTART:20260308T090000
END:DAYLIGHT
BEGIN:STANDARD
TZOFFSETFROM:-0600
TZOFFSETTO:-0700
TZNAME:MST
DTSTART:20261101T080000
END:STANDARD
BEGIN:DAYLIGHT
TZOFFSETFROM:-0700
TZOFFSETTO:-0600
TZNAME:MDT
DTSTART:20270314T090000
END:DAYLIGHT
BEGIN:STANDARD
TZOFFSETFROM:-0600
TZOFFSETTO:-0700
TZNAME:MST
DTSTART:20271107T080000
END:STANDARD
END:VTIMEZONE
BEGIN:VEVENT
DTSTART;TZID=America/Los_Angeles:20260902T150000
DTEND;TZID=America/Los_Angeles:20260902T163000
DTSTAMP:20260423T142624
CREATED:20250716T215135Z
LAST-MODIFIED:20250717T161243Z
UID:49583-1788361200-1788366600@doi.idaho.gov
SUMMARY:Medicare Workshop
DESCRIPTION:Are you new to Medicare?  Just leaving work or group health insurance over the age of 65?  Come and learn how to untangle the wonders of Medicare.  Senior Health Insurance Benefits Advisors (SHIBA) serves Idahoans on Medicare and those who help them by offering free\, unbiased Medicare benefits\, information\, and assistance through workshops\, group presentations and personal counseling. SHIBA is Idaho’s provider for the federal network of State Health Insurance Assistance Programs (SHIPs). The program is partially funded by and operated under the authority of the U.S. Department of Health and Human Services Administration for Community Living (ACL). \nCoeur d’Alene Public Library \n702 E Front Ave \nNo Registration Required
URL:https://doi.idaho.gov/event/49580/2026-09-02/
LOCATION:Coeur d’Alene Public Library 702 E Front Ave\, 702 E Front Ave\, Coeur d'Alene
CATEGORIES:Medicare Workshop,SHIBA
END:VEVENT
BEGIN:VEVENT
DTSTART;TZID=America/Los_Angeles:20260915T130000
DTEND;TZID=America/Los_Angeles:20260915T143000
DTSTAMP:20260423T142624
CREATED:20250716T175431Z
LAST-MODIFIED:20250716T220459Z
UID:49563-1789477200-1789482600@doi.idaho.gov
SUMMARY:Importance of Medicare Review- Education
DESCRIPTION:Medicare beneficiaries have the ability to review their current plans and options to make changes to start the 1st of the next year.  Medicare Advantage and Prescription Drug plans could change- costs\, premiums\, co-pays/co-ins\, covered drugs\, pharmacy contracts\, provider networks\, extra benefits and other items EACH year.  Make sure your plan is the best plan for your current health needs; you can change or not. \nCoeur d’Alene Library \n702 E Front Ave \nNo Registration Required
URL:https://doi.idaho.gov/event/importance-of-medicare-review-education/
LOCATION:Coeur d’Alene Public Library 702 E Front Ave\, 702 E Front Ave\, Coeur d'Alene
CATEGORIES:Medicare Update,SHIBA
END:VEVENT
BEGIN:VEVENT
DTSTART;TZID=America/Los_Angeles:20261020T130000
DTEND;TZID=America/Los_Angeles:20261020T143000
DTSTAMP:20260423T142624
CREATED:20250716T180511Z
LAST-MODIFIED:20250716T220609Z
UID:49566-1792501200-1792506600@doi.idaho.gov
SUMMARY:Changes to Medicare 2027
DESCRIPTION:Learn about the changes to Medicare and coverage options for 2027. Part A & B Premiums and deductibles will be shared if released by Medicare prior to this workshop.  No Registration Required \nCoeur d’Alene Public Library \n702 E Front Ave
URL:https://doi.idaho.gov/event/changes-to-medicare-2027/
LOCATION:Coeur d’Alene Public Library 702 E Front Ave\, 702 E Front Ave\, Coeur d'Alene
CATEGORIES:Medicare Update,SHIBA
END:VEVENT
BEGIN:VEVENT
DTSTART;TZID=America/Los_Angeles:20261021T103000
DTEND;TZID=America/Los_Angeles:20261021T120000
DTSTAMP:20260423T142624
CREATED:20250717T160014Z
LAST-MODIFIED:20250717T160014Z
UID:49606-1792578600-1792584000@doi.idaho.gov
SUMMARY:Importance of Review- Medicare
DESCRIPTION:Medicare beneficiaries have the ability to review their current plans and options to make changes to start the 1st of the next year.  Medicare Advantage and Prescription Drug plans could change- costs\, premiums\, co-pays/co-ins\, covered drugs\, pharmacy contracts\, provider networks\, extra benefits and other items EACH year.  Make sure your plan is the best plan for your current health needs; you can change or not. \nMoscow Public Library \n110 S Jefferson\, Moscow \nNo Registration Required
URL:https://doi.idaho.gov/event/importance-of-review-medicare/
LOCATION:110 S. Jefferson Moscow\, ID 83843\, 110 S. Jefferson Moscow\, ID 83843\, Moscow
CATEGORIES:Medicare Update,SHIBA
END:VEVENT
BEGIN:VEVENT
DTSTART;TZID=America/Los_Angeles:20261021T180000
DTEND;TZID=America/Los_Angeles:20261021T200000
DTSTAMP:20260423T142624
CREATED:20250716T230257Z
LAST-MODIFIED:20250717T161042Z
UID:49599-1792605600-1792612800@doi.idaho.gov
SUMMARY:Medicare Workshop
DESCRIPTION:Are you new to Medicare?  Just leaving work or group health insurance over the age of 65?  Come and learn how to untangle the wonders of Medicare.  Senior Health Insurance Benefits Advisors (SHIBA) serves Idahoans on Medicare and those who help them by offering free\, unbiased Medicare benefits\, information\, and assistance through workshops\, group presentations and personal counseling. SHIBA is Idaho’s provider for the federal network of State Health Insurance Assistance Programs (SHIPs). The program is partially funded by and operated under the authority of the U.S. Department of Health and Human Services Administration for Community Living (ACL).  Registration Required- contact Karen Richel-208-883-2241 or krichel@uidaho.edu \nU of I Extension Office- 200 S Almon Street 2nd Floor Conference room
URL:https://doi.idaho.gov/event/medicare-workshop-18/2026-10-21/
LOCATION:200 S Almon Street\, Moscow Idaho 83843\, 200 S Almon Street\, Moscow\, 83843\, United States
CATEGORIES:Medicare Workshop,SHIBA
END:VEVENT
BEGIN:VEVENT
DTSTART;TZID=America/Los_Angeles:20261022T150000
DTEND;TZID=America/Los_Angeles:20261022T160000
DTSTAMP:20260423T142624
CREATED:20250718T173500Z
LAST-MODIFIED:20250718T173517Z
UID:49636-1792681200-1792684800@doi.idaho.gov
SUMMARY:Importance of Review- Medicare
DESCRIPTION:Medicare beneficiaries have the ability to review their current plans and options to make changes to start the 1st of the next year.  Medicare Advantage and Prescription Drug plans could change- costs\, premiums\, co-pays/co-ins\, covered drugs\, pharmacy contracts\, provider networks\, extra benefits and other items EACH year.  Make sure your plan is the best plan for your current health needs; you can change or not. \nLewiston Public Library- 411- D Street\, 2nd Floor\, Lewiston.  No Registration Required
URL:https://doi.idaho.gov/event/importance-of-review-medicare-2/
LOCATION:Lewiston Library\, 411 D Street\, Lewiston\, ID\, 83501
CATEGORIES:Medicare Update,SHIBA
END:VEVENT
BEGIN:VEVENT
DTSTART;TZID=America/Boise:20261118T103000
DTEND;TZID=America/Boise:20261118T120000
DTSTAMP:20260423T142624
CREATED:20260223T200448Z
LAST-MODIFIED:20260327T164819Z
UID:51292-1794997800-1795003200@doi.idaho.gov
SUMMARY:Medicare Workshop
DESCRIPTION:Are you new to Medicare?  Just leaving work or group health insurance over the age of 65?  Come and learn how to untangle the wonders of Medicare.  Senior Health Insurance Benefits Advisors (SHIBA) serves Idahoans on Medicare and those who help them by offering free\, unbiased Medicare benefits\, information\, and assistance through workshops\, group presentations and personal counseling. SHIBA is Idaho’s provider for the federal network of State Health Insurance Assistance Programs (SHIPs). The program is partially funded by and operated under the authority of the U.S. Department of Health and Human Services Administration for Community Living (ACL). \nNimiipuu Health- Conference Room \n111 Bever Grade \nLapwai\, Idaho
URL:https://doi.idaho.gov/event/medicare-workshop-24/2026-11-18/
LOCATION:Nimiipuu Health\, 111 Bever Grade\, Lapwai\, 83540\, United States
CATEGORIES:Medicare Workshop,SHIBA
END:VEVENT
BEGIN:VEVENT
DTSTART;TZID=America/Los_Angeles:20261118T133000
DTEND;TZID=America/Los_Angeles:20261118T150000
DTSTAMP:20260423T142624
CREATED:20250718T172950Z
LAST-MODIFIED:20250718T172950Z
UID:49633-1795008600-1795014000@doi.idaho.gov
SUMMARY:Medicare Workshop
DESCRIPTION:Are you new to Medicare?  Just leaving work or group health insurance over the age of 65?  Come and learn how to untangle the wonders of Medicare.  Senior Health Insurance Benefits Advisors (SHIBA) serves Idahoans on Medicare and those who help them by offering free\, unbiased Medicare benefits\, information\, and assistance through workshops\, group presentations and personal counseling. SHIBA is Idaho’s provider for the federal network of State Health Insurance Assistance Programs (SHIPs). The program is partially funded by and operated under the authority of the U.S. Department of Health and Human Services Administration for Community Living (ACL). \nLewiston Public Library- 411- D Street\, 2nd Floor\, Lewiston.   No Registration Required
URL:https://doi.idaho.gov/event/medicare-workshop-20/2026-11-18/
LOCATION:Lewiston Library\, 411 D Street\, Lewiston\, ID\, 83501
CATEGORIES:Medicare Workshop,SHIBA
END:VEVENT
BEGIN:VEVENT
DTSTART;TZID=America/Los_Angeles:20261119T103000
DTEND;TZID=America/Los_Angeles:20261119T120000
DTSTAMP:20260423T142624
CREATED:20250717T154000Z
LAST-MODIFIED:20250717T154000Z
UID:49605-1795084200-1795089600@doi.idaho.gov
SUMMARY:Medicare Workshop
DESCRIPTION:Are you new to Medicare?  Just leaving work or group health insurance over the age of 65?  Come and learn how to untangle the wonders of Medicare.  Senior Health Insurance Benefits Advisors (SHIBA) serves Idahoans on Medicare and those who help them by offering free\, unbiased Medicare benefits\, information\, and assistance through workshops\, group presentations and personal counseling. SHIBA is Idaho’s provider for the federal network of State Health Insurance Assistance Programs (SHIPs). The program is partially funded by and operated under the authority of the U.S. Department of Health and Human Services Administration for Community Living (ACL). \nMoscow Public Library \n110 S Jefferson\, Moscow \nNo Registration Required
URL:https://doi.idaho.gov/event/medicare-workshop-19/2026-11-19/
LOCATION:110 S. Jefferson Moscow\, ID 83843\, 110 S. Jefferson Moscow\, ID 83843\, Moscow
CATEGORIES:Medicare Workshop,SHIBA
END:VEVENT
BEGIN:VEVENT
DTSTART;TZID=America/Los_Angeles:20261209T150000
DTEND;TZID=America/Los_Angeles:20261209T163000
DTSTAMP:20260423T142624
CREATED:20250716T215135Z
LAST-MODIFIED:20250717T161244Z
UID:49584-1796828400-1796833800@doi.idaho.gov
SUMMARY:Medicare Workshop
DESCRIPTION:Are you new to Medicare?  Just leaving work or group health insurance over the age of 65?  Come and learn how to untangle the wonders of Medicare.  Senior Health Insurance Benefits Advisors (SHIBA) serves Idahoans on Medicare and those who help them by offering free\, unbiased Medicare benefits\, information\, and assistance through workshops\, group presentations and personal counseling. SHIBA is Idaho’s provider for the federal network of State Health Insurance Assistance Programs (SHIPs). The program is partially funded by and operated under the authority of the U.S. Department of Health and Human Services Administration for Community Living (ACL). \nCoeur d’Alene Public Library \n702 E Front Ave \nNo Registration Required
URL:https://doi.idaho.gov/event/49580/2026-12-09/
LOCATION:Coeur d’Alene Public Library 702 E Front Ave\, 702 E Front Ave\, Coeur d'Alene
CATEGORIES:Medicare Workshop,SHIBA
END:VEVENT
END:VCALENDAR