BEGIN:VCALENDAR
VERSION:2.0
PRODID:-//Department of Insurance - ECPv6.15.20//NONSGML v1.0//EN
CALSCALE:GREGORIAN
METHOD:PUBLISH
X-WR-CALNAME:Department of Insurance
X-ORIGINAL-URL:https://doi.idaho.gov
X-WR-CALDESC:Events for Department of Insurance
REFRESH-INTERVAL;VALUE=DURATION:PT1H
X-Robots-Tag:noindex
X-PUBLISHED-TTL:PT1H
BEGIN:VTIMEZONE
TZID:America/Boise
BEGIN:DAYLIGHT
TZOFFSETFROM:-0700
TZOFFSETTO:-0600
TZNAME:MDT
DTSTART:20230312T090000
END:DAYLIGHT
BEGIN:STANDARD
TZOFFSETFROM:-0600
TZOFFSETTO:-0700
TZNAME:MST
DTSTART:20231105T080000
END:STANDARD
BEGIN:DAYLIGHT
TZOFFSETFROM:-0700
TZOFFSETTO:-0600
TZNAME:MDT
DTSTART:20240310T090000
END:DAYLIGHT
BEGIN:STANDARD
TZOFFSETFROM:-0600
TZOFFSETTO:-0700
TZNAME:MST
DTSTART:20241103T080000
END:STANDARD
BEGIN:DAYLIGHT
TZOFFSETFROM:-0700
TZOFFSETTO:-0600
TZNAME:MDT
DTSTART:20250309T090000
END:DAYLIGHT
BEGIN:STANDARD
TZOFFSETFROM:-0600
TZOFFSETTO:-0700
TZNAME:MST
DTSTART:20251102T080000
END:STANDARD
END:VTIMEZONE
BEGIN:VEVENT
DTSTART;TZID=America/Boise:20240902T000000
DTEND;TZID=America/Boise:20240902T000000
DTSTAMP:20260423T231643
CREATED:20250425T155204Z
LAST-MODIFIED:20250425T155204Z
UID:48752-1725235200-1725235200@doi.idaho.gov
SUMMARY:Labor Day
DESCRIPTION:
URL:https://doi.idaho.gov/event/labor-day/
LOCATION:ID
CATEGORIES:Office Closed
END:VEVENT
BEGIN:VEVENT
DTSTART;TZID=America/Boise:20240923T000000
DTEND;TZID=America/Boise:20240923T000000
DTSTAMP:20260423T231643
CREATED:20250425T155355Z
LAST-MODIFIED:20250425T155355Z
UID:48769-1727049600-1727049600@doi.idaho.gov
SUMMARY:Proposed Rules Comment Hearing
DESCRIPTION:The Idaho Department of Insurance will hold a public meeting to receive comments on DOI’s Proposed Rulemaking on Monday\, September 23\, 2024\, from 2:00 pm to 3:30 pm (MT). Both in-person and phone or virtual participation are available. \n\n\n\nIn-person participation is available at: \n\n\n\nIdaho Department of Insurance \n\n\n\n700 W. State St.\, 3rd Floor \n\n\n\nBoise\, ID 83702 \n\n\n\nDial in by phone \n\n\n\n+1 208-985-2810\,\,147400985# United States\, Boise \n\n\n\nFind a local number \n\n\n\nPhone conference ID: 147 400 985# \n\n\n\nWeb Meeting Link: \n\n\n\nClick here to join the meeting \n\n\n\nMeeting ID: 259 030 737 919 Passcode: PWSpjG
URL:https://doi.idaho.gov/event/proposed-rules-comment-hearing/
LOCATION:ID
END:VEVENT
END:VCALENDAR