BEGIN:VCALENDAR
VERSION:2.0
PRODID:-//Department of Insurance - ECPv6.15.20//NONSGML v1.0//EN
CALSCALE:GREGORIAN
METHOD:PUBLISH
X-WR-CALNAME:Department of Insurance
X-ORIGINAL-URL:https://doi.idaho.gov
X-WR-CALDESC:Events for Department of Insurance
REFRESH-INTERVAL;VALUE=DURATION:PT1H
X-Robots-Tag:noindex
X-PUBLISHED-TTL:PT1H
BEGIN:VTIMEZONE
TZID:America/Boise
BEGIN:DAYLIGHT
TZOFFSETFROM:-0700
TZOFFSETTO:-0600
TZNAME:MDT
DTSTART:20230312T090000
END:DAYLIGHT
BEGIN:STANDARD
TZOFFSETFROM:-0600
TZOFFSETTO:-0700
TZNAME:MST
DTSTART:20231105T080000
END:STANDARD
BEGIN:DAYLIGHT
TZOFFSETFROM:-0700
TZOFFSETTO:-0600
TZNAME:MDT
DTSTART:20240310T090000
END:DAYLIGHT
BEGIN:STANDARD
TZOFFSETFROM:-0600
TZOFFSETTO:-0700
TZNAME:MST
DTSTART:20241103T080000
END:STANDARD
BEGIN:DAYLIGHT
TZOFFSETFROM:-0700
TZOFFSETTO:-0600
TZNAME:MDT
DTSTART:20250309T090000
END:DAYLIGHT
BEGIN:STANDARD
TZOFFSETFROM:-0600
TZOFFSETTO:-0700
TZNAME:MST
DTSTART:20251102T080000
END:STANDARD
END:VTIMEZONE
BEGIN:VEVENT
DTSTART;TZID=America/Boise:20241008T000000
DTEND;TZID=America/Boise:20241008T000000
DTSTAMP:20260423T194810
CREATED:20250425T155354Z
LAST-MODIFIED:20250425T155354Z
UID:48768-1728345600-1728345600@doi.idaho.gov
SUMMARY:Idaho High-Risk Reinsurance Pool Board Meeting
DESCRIPTION:Agenda  \n\n\n\nMicrosoft Teams Need help? \n\n\n\nJoin the meeting now \n\n\n\nMeeting ID: 280 330 837 744 \n\n\n\nPasscode: vneBhD \n\n\n\n\n\n\n\nDial in by phone \n\n\n\n+1 208-985-2810\,\,15360348# United States\, Boise \n\n\n\n(208) 985-2810\,\,15360348# United States (Toll-free) \n\n\n\nFind a local number \n\n\n\nPhone conference ID: 153 603 48#
URL:https://doi.idaho.gov/event/idaho-high-risk-reinsurance-pool-board-meeting-16/
LOCATION:ID
CATEGORIES:General
END:VEVENT
BEGIN:VEVENT
DTSTART;TZID=America/Boise:20241014T000000
DTEND;TZID=America/Boise:20241014T000000
DTSTAMP:20260423T194810
CREATED:20250425T155330Z
LAST-MODIFIED:20250425T155330Z
UID:48753-1728864000-1728864000@doi.idaho.gov
SUMMARY:Columbus Day
DESCRIPTION:
URL:https://doi.idaho.gov/event/columbus-day/
LOCATION:ID
CATEGORIES:Office Closed
END:VEVENT
BEGIN:VEVENT
DTSTART;TZID=America/Boise:20241031T000000
DTEND;TZID=America/Boise:20241031T000000
DTSTAMP:20260423T194810
CREATED:20250425T155355Z
LAST-MODIFIED:20250425T155355Z
UID:48770-1730332800-1730332800@doi.idaho.gov
SUMMARY:Idaho Individual High Risk Reinsurance Pool Program Plan of Operations Public Hearing
DESCRIPTION:Public Notice  \n\n\n\nProposed Plan of Operation  \n\n\n\n \n\n\n\nMicrosoft Tems  \n\n\n\n \n\n\n\nMeeting ID: 251 610 793 19 \n\n\n\nPasscode: 7NiJxv \n\n\n\nDial in by phone \n\n\n\n+1 208-985-2810\,\,594310162# United States\, Boise \n\n\n\nFind a local number \n\n\n\nPhone conference ID: 594 310 162#
URL:https://doi.idaho.gov/event/idaho-individual-high-risk-reinsurance-pool-program-plan-of-operations-public-hearing/
LOCATION:ID
END:VEVENT
END:VCALENDAR