BEGIN:VCALENDAR
VERSION:2.0
PRODID:-//Department of Insurance - ECPv6.15.20//NONSGML v1.0//EN
CALSCALE:GREGORIAN
METHOD:PUBLISH
X-WR-CALNAME:Department of Insurance
X-ORIGINAL-URL:https://doi.idaho.gov
X-WR-CALDESC:Events for Department of Insurance
REFRESH-INTERVAL;VALUE=DURATION:PT1H
X-Robots-Tag:noindex
X-PUBLISHED-TTL:PT1H
BEGIN:VTIMEZONE
TZID:America/Los_Angeles
BEGIN:DAYLIGHT
TZOFFSETFROM:-0800
TZOFFSETTO:-0700
TZNAME:PDT
DTSTART:20250309T100000
END:DAYLIGHT
BEGIN:STANDARD
TZOFFSETFROM:-0700
TZOFFSETTO:-0800
TZNAME:PST
DTSTART:20251102T090000
END:STANDARD
BEGIN:DAYLIGHT
TZOFFSETFROM:-0800
TZOFFSETTO:-0700
TZNAME:PDT
DTSTART:20260308T100000
END:DAYLIGHT
BEGIN:STANDARD
TZOFFSETFROM:-0700
TZOFFSETTO:-0800
TZNAME:PST
DTSTART:20261101T090000
END:STANDARD
BEGIN:DAYLIGHT
TZOFFSETFROM:-0800
TZOFFSETTO:-0700
TZNAME:PDT
DTSTART:20270314T100000
END:DAYLIGHT
BEGIN:STANDARD
TZOFFSETFROM:-0700
TZOFFSETTO:-0800
TZNAME:PST
DTSTART:20271107T090000
END:STANDARD
END:VTIMEZONE
BEGIN:VEVENT
DTSTART;TZID=America/Los_Angeles:20260507T103000
DTEND;TZID=America/Los_Angeles:20260507T120000
DTSTAMP:20260424T061128
CREATED:20250717T154000Z
LAST-MODIFIED:20250717T154000Z
UID:49603-1778149800-1778155200@doi.idaho.gov
SUMMARY:Medicare Workshop
DESCRIPTION:Are you new to Medicare?  Just leaving work or group health insurance over the age of 65?  Come and learn how to untangle the wonders of Medicare.  Senior Health Insurance Benefits Advisors (SHIBA) serves Idahoans on Medicare and those who help them by offering free\, unbiased Medicare benefits\, information\, and assistance through workshops\, group presentations and personal counseling. SHIBA is Idaho’s provider for the federal network of State Health Insurance Assistance Programs (SHIPs). The program is partially funded by and operated under the authority of the U.S. Department of Health and Human Services Administration for Community Living (ACL). \nMoscow Public Library \n110 S Jefferson\, Moscow \nNo Registration Required
URL:https://doi.idaho.gov/event/medicare-workshop-19/2026-05-07/
LOCATION:110 S. Jefferson Moscow\, ID 83843\, 110 S. Jefferson Moscow\, ID 83843\, Moscow
CATEGORIES:Medicare Workshop,SHIBA
END:VEVENT
BEGIN:VEVENT
DTSTART;TZID=America/Los_Angeles:20260813T103000
DTEND;TZID=America/Los_Angeles:20260813T120000
DTSTAMP:20260424T061128
CREATED:20250717T154000Z
LAST-MODIFIED:20250717T154000Z
UID:49604-1786617000-1786622400@doi.idaho.gov
SUMMARY:Medicare Workshop
DESCRIPTION:Are you new to Medicare?  Just leaving work or group health insurance over the age of 65?  Come and learn how to untangle the wonders of Medicare.  Senior Health Insurance Benefits Advisors (SHIBA) serves Idahoans on Medicare and those who help them by offering free\, unbiased Medicare benefits\, information\, and assistance through workshops\, group presentations and personal counseling. SHIBA is Idaho’s provider for the federal network of State Health Insurance Assistance Programs (SHIPs). The program is partially funded by and operated under the authority of the U.S. Department of Health and Human Services Administration for Community Living (ACL). \nMoscow Public Library \n110 S Jefferson\, Moscow \nNo Registration Required
URL:https://doi.idaho.gov/event/medicare-workshop-19/2026-08-13/
LOCATION:110 S. Jefferson Moscow\, ID 83843\, 110 S. Jefferson Moscow\, ID 83843\, Moscow
CATEGORIES:Medicare Workshop,SHIBA
END:VEVENT
BEGIN:VEVENT
DTSTART;TZID=America/Los_Angeles:20261021T103000
DTEND;TZID=America/Los_Angeles:20261021T120000
DTSTAMP:20260424T061128
CREATED:20250717T160014Z
LAST-MODIFIED:20250717T160014Z
UID:49606-1792578600-1792584000@doi.idaho.gov
SUMMARY:Importance of Review- Medicare
DESCRIPTION:Medicare beneficiaries have the ability to review their current plans and options to make changes to start the 1st of the next year.  Medicare Advantage and Prescription Drug plans could change- costs\, premiums\, co-pays/co-ins\, covered drugs\, pharmacy contracts\, provider networks\, extra benefits and other items EACH year.  Make sure your plan is the best plan for your current health needs; you can change or not. \nMoscow Public Library \n110 S Jefferson\, Moscow \nNo Registration Required
URL:https://doi.idaho.gov/event/importance-of-review-medicare/
LOCATION:110 S. Jefferson Moscow\, ID 83843\, 110 S. Jefferson Moscow\, ID 83843\, Moscow
CATEGORIES:Medicare Update,SHIBA
END:VEVENT
BEGIN:VEVENT
DTSTART;TZID=America/Los_Angeles:20261119T103000
DTEND;TZID=America/Los_Angeles:20261119T120000
DTSTAMP:20260424T061128
CREATED:20250717T154000Z
LAST-MODIFIED:20250717T154000Z
UID:49605-1795084200-1795089600@doi.idaho.gov
SUMMARY:Medicare Workshop
DESCRIPTION:Are you new to Medicare?  Just leaving work or group health insurance over the age of 65?  Come and learn how to untangle the wonders of Medicare.  Senior Health Insurance Benefits Advisors (SHIBA) serves Idahoans on Medicare and those who help them by offering free\, unbiased Medicare benefits\, information\, and assistance through workshops\, group presentations and personal counseling. SHIBA is Idaho’s provider for the federal network of State Health Insurance Assistance Programs (SHIPs). The program is partially funded by and operated under the authority of the U.S. Department of Health and Human Services Administration for Community Living (ACL). \nMoscow Public Library \n110 S Jefferson\, Moscow \nNo Registration Required
URL:https://doi.idaho.gov/event/medicare-workshop-19/2026-11-19/
LOCATION:110 S. Jefferson Moscow\, ID 83843\, 110 S. Jefferson Moscow\, ID 83843\, Moscow
CATEGORIES:Medicare Workshop,SHIBA
END:VEVENT
END:VCALENDAR